BEGIN:VCALENDAR
VERSION:2.0
PRODID:-//Happy Tunes - ECPv6.15.20//NONSGML v1.0//EN
CALSCALE:GREGORIAN
METHOD:PUBLISH
X-WR-CALNAME:Happy Tunes
X-ORIGINAL-URL:https://wp.happytunes.de
X-WR-CALDESC:Events for Happy Tunes
REFRESH-INTERVAL;VALUE=DURATION:PT1H
X-Robots-Tag:noindex
X-PUBLISHED-TTL:PT1H
BEGIN:VTIMEZONE
TZID:Europe/Berlin
BEGIN:DAYLIGHT
TZOFFSETFROM:+0100
TZOFFSETTO:+0200
TZNAME:CEST
DTSTART:20240331T010000
END:DAYLIGHT
BEGIN:STANDARD
TZOFFSETFROM:+0200
TZOFFSETTO:+0100
TZNAME:CET
DTSTART:20241027T010000
END:STANDARD
BEGIN:DAYLIGHT
TZOFFSETFROM:+0100
TZOFFSETTO:+0200
TZNAME:CEST
DTSTART:20250330T010000
END:DAYLIGHT
BEGIN:STANDARD
TZOFFSETFROM:+0200
TZOFFSETTO:+0100
TZNAME:CET
DTSTART:20251026T010000
END:STANDARD
BEGIN:DAYLIGHT
TZOFFSETFROM:+0100
TZOFFSETTO:+0200
TZNAME:CEST
DTSTART:20260329T010000
END:DAYLIGHT
BEGIN:STANDARD
TZOFFSETFROM:+0200
TZOFFSETTO:+0100
TZNAME:CET
DTSTART:20261025T010000
END:STANDARD
END:VTIMEZONE
BEGIN:VEVENT
DTSTART;TZID=Europe/Berlin:20251010T200000
DTEND;TZID=Europe/Berlin:20251010T235900
DTSTAMP:20260424T030129
CREATED:20250814T145341Z
LAST-MODIFIED:20250814T145450Z
UID:13197-1760126400-1760140740@wp.happytunes.de
SUMMARY:🍺🥨 OKTOᗷᗩᖇᖇᖇ!ᖴEST ²⁰²⁵ 🏴☠ ᴅᴀʏ ᴏɴᴇ 🍻
DESCRIPTION:🔗 Carrd: https://oktoberfestxiv2025.carrd.co🚀 Discord: https://discord.gg/Vs4MVM8any \n\n\n\n📍 Light DC ➨ Shiva ➨ The Lavender Beds ➨ Ward 22 ☇ Plot 33
URL:https://wp.happytunes.de/event/%f0%9f%8d%ba%f0%9f%a5%a8-okto%e1%97%b7%e1%97%a9%e1%96%87%e1%96%87%e1%96%87%e1%96%b4est-%c2%b2%e2%81%b0%c2%b2%e2%81%b5-%f0%9f%8f%b4%e2%98%a0-%e1%b4%85%e1%b4%80%ca%8f-%e1%b4%8f%c9%b4%e1%b4%87/
CATEGORIES:Concert,Event
END:VEVENT
BEGIN:VEVENT
DTSTART;TZID=Europe/Berlin:20251011T200000
DTEND;TZID=Europe/Berlin:20251011T235900
DTSTAMP:20260424T030129
CREATED:20250814T145555Z
LAST-MODIFIED:20250814T145557Z
UID:13201-1760212800-1760227140@wp.happytunes.de
SUMMARY:🍺🥨 OKTOᗷᗩᖇᖇᖇ!ᖴEST ²⁰²⁵ 🏴☠ ᴅᴀʏ ᴛᴡᴏ 🍻
DESCRIPTION:🔗 Carrd: https://oktoberfestxiv2025.carrd.co🚀 Discord: https://discord.gg/Vs4MVM8any \n\n\n\n📍 Light DC ➨ Shiva ➨ The Lavender Beds ➨ Ward 22 ☇ Plot 33
URL:https://wp.happytunes.de/event/%f0%9f%8d%ba%f0%9f%a5%a8-okto%e1%97%b7%e1%97%a9%e1%96%87%e1%96%87%e1%96%87%e1%96%b4est-%c2%b2%e2%81%b0%c2%b2%e2%81%b5-%f0%9f%8f%b4%e2%98%a0-%e1%b4%85%e1%b4%80%ca%8f-%e1%b4%9b%e1%b4%a1%e1%b4%8f/
CATEGORIES:Concert,Event
END:VEVENT
BEGIN:VEVENT
DTSTART;TZID=Europe/Berlin:20251018T200000
DTEND;TZID=Europe/Berlin:20251018T235900
DTSTAMP:20260424T030129
CREATED:20251014T083037Z
LAST-MODIFIED:20251014T083041Z
UID:14644-1760817600-1760831940@wp.happytunes.de
SUMMARY:🎃 Ʈɦɛ Mo0ŋLιɠɦƭ Fɛรƭเʋαℓ 👻
DESCRIPTION:🔗 Carrd: https://moonlightfestival.carrd.co/🚀 Discord: https://discord.gg/UxgqARbkV2 \n\n\n\n📍 DC Chaos ➨ Louisoix ➨ Old Gridania ➜ Mih Khetto’s Amphitheatre
URL:https://wp.happytunes.de/event/%f0%9f%8e%83-%ca%88%c9%a6%c9%9b-mo0nl%ce%b9%c9%a0%c9%a6%c6%ad-f%c9%9b%e0%b8%a3%c6%ad%e0%b9%80%ca%8b%ce%b1%e2%84%93-%f0%9f%91%bb/
CATEGORIES:Concert,Event
END:VEVENT
BEGIN:VEVENT
DTSTART;TZID=Europe/Berlin:20251025T130000
DTEND;TZID=Europe/Berlin:20251025T170000
DTSTAMP:20260424T030130
CREATED:20251014T083335Z
LAST-MODIFIED:20251014T083337Z
UID:14646-1761397200-1761411600@wp.happytunes.de
SUMMARY:👺Kawagoe Yokocho 🎃
DESCRIPTION:🔗 Carrd: https://kawagoeheim.carrd.co/Location:📍 Elemental DC ➨ Tonberry ➨ Empyreum ➜ W6 ☇ P47
URL:https://wp.happytunes.de/event/%f0%9f%91%bakawagoe-yokocho-%f0%9f%8e%83/
CATEGORIES:Concert,Event
END:VEVENT
BEGIN:VEVENT
DTSTART;TZID=Europe/Berlin:20251026T203000
DTEND;TZID=Europe/Berlin:20251026T233000
DTSTAMP:20260424T030130
CREATED:20251014T083611Z
LAST-MODIFIED:20251014T083613Z
UID:14651-1761510600-1761521400@wp.happytunes.de
SUMMARY:🎃 Melodies of the Harvest 2025 🎃
DESCRIPTION:𝕿𝖍𝖊 𝕭𝖑𝖚𝖊 𝕹𝖔𝖙𝖊 \n\n\n\nLocation:📍 DC Light ➔ Twintania ➔ Mist ➔ 🏡 W23 ☇ P01 \n\n\n\n🔗 Carrd: https://thebluenote.carrd.co/🚀 Discord: https://discord.com/invite/H9cfgBQbvP
URL:https://wp.happytunes.de/event/%f0%9f%8e%83-melodies-of-the-harvest-2025-%f0%9f%8e%83/
CATEGORIES:Concert,Event
END:VEVENT
BEGIN:VEVENT
DTSTART;TZID=Europe/Berlin:20251031T200000
DTEND;TZID=Europe/Berlin:20251031T235900
DTSTAMP:20260424T030130
CREATED:20251014T083857Z
LAST-MODIFIED:20251014T083859Z
UID:14653-1761940800-1761955140@wp.happytunes.de
SUMMARY:✨ Halloween Collaboration Event! ✨🎃
DESCRIPTION:✨ Halloween Collaboration Event! ✨🎃 \n\n\n\n👻 ZOMBIE ZOOMIES (Halloween Parade) – 19:00 (keep your cookies near\, you might need them)🎶 Return to Cafe Flintstone – 20:00👗 Glamour Contest – 20:30 \n\n\n\n🎶 Live Music by:• Catstahlation• Spooky Tunes (Happy Tunes)• Bards of Light
URL:https://wp.happytunes.de/event/%e2%9c%a8-halloween-collaboration-event-%e2%9c%a8%f0%9f%8e%83/
CATEGORIES:Concert,Event
END:VEVENT
END:VCALENDAR