BEGIN:VCALENDAR
VERSION:2.0
PRODID:-//Happy Tunes - ECPv6.15.20//NONSGML v1.0//EN
CALSCALE:GREGORIAN
METHOD:PUBLISH
X-ORIGINAL-URL:https://wp.happytunes.de
X-WR-CALDESC:Events for Happy Tunes
REFRESH-INTERVAL;VALUE=DURATION:PT1H
X-Robots-Tag:noindex
X-PUBLISHED-TTL:PT1H
BEGIN:VTIMEZONE
TZID:Europe/Berlin
BEGIN:DAYLIGHT
TZOFFSETFROM:+0100
TZOFFSETTO:+0200
TZNAME:CEST
DTSTART:20240331T010000
END:DAYLIGHT
BEGIN:STANDARD
TZOFFSETFROM:+0200
TZOFFSETTO:+0100
TZNAME:CET
DTSTART:20241027T010000
END:STANDARD
BEGIN:DAYLIGHT
TZOFFSETFROM:+0100
TZOFFSETTO:+0200
TZNAME:CEST
DTSTART:20250330T010000
END:DAYLIGHT
BEGIN:STANDARD
TZOFFSETFROM:+0200
TZOFFSETTO:+0100
TZNAME:CET
DTSTART:20251026T010000
END:STANDARD
BEGIN:DAYLIGHT
TZOFFSETFROM:+0100
TZOFFSETTO:+0200
TZNAME:CEST
DTSTART:20260329T010000
END:DAYLIGHT
BEGIN:STANDARD
TZOFFSETFROM:+0200
TZOFFSETTO:+0100
TZNAME:CET
DTSTART:20261025T010000
END:STANDARD
END:VTIMEZONE
BEGIN:VEVENT
DTSTART;TZID=Europe/Berlin:20251107T200000
DTEND;TZID=Europe/Berlin:20251107T235900
DTSTAMP:20260424T011837
CREATED:20251027T072625Z
LAST-MODIFIED:20251027T072627Z
UID:14976-1762545600-1762559940@wp.happytunes.de
SUMMARY:🕵️ Lalakuza Bards Tale 🎻
DESCRIPTION:🔗 Carrd: https://lalakuza-bardstale.carrd.co/ \n\n\n\n🚀 Discord: https://discord.gg/8m8eQxtkXC \n\n\n\n📍 Light DC ➨ Shiva ➨ Mist ➨ W28 • P19
URL:https://wp.happytunes.de/event/%f0%9f%95%b5%ef%b8%8f-lalakuza-bards-tale-%f0%9f%8e%bb-3/
CATEGORIES:Concert,Event
END:VEVENT
BEGIN:VEVENT
DTSTART;TZID=Europe/Berlin:20251115T200000
DTEND;TZID=Europe/Berlin:20251115T233000
DTSTAMP:20260424T011837
CREATED:20251110T102705Z
LAST-MODIFIED:20251110T102707Z
UID:15356-1763236800-1763249400@wp.happytunes.de
SUMMARY:🌟 Moonlight Festival 🌛
DESCRIPTION:🔗 Carrd: https://moonlightfestival.carrd.co/🚀 Discord: https://discord.gg/UxgqARbkV2 \n\n\n\n📍 DC x➨ x➨ x ➨ x
URL:https://wp.happytunes.de/event/%f0%9f%8c%9f-moonlight-festival-%f0%9f%8c%9b-13/
CATEGORIES:Concert,Event
END:VEVENT
BEGIN:VEVENT
DTSTART;TZID=Europe/Berlin:20251122T160000
DTEND;TZID=Europe/Berlin:20251122T230000
DTSTAMP:20260424T011837
CREATED:20251110T102529Z
LAST-MODIFIED:20251110T102537Z
UID:15353-1763827200-1763852400@wp.happytunes.de
SUMMARY:★ Chaos Theory – Festival ★
DESCRIPTION:📍 Light DC ➨ Raiden ➨ The Goblet ➨ W10 ☇ Plot 55 \n\n\n\nDiscord • https://discord.gg/chaostheory
URL:https://wp.happytunes.de/event/%e2%98%85-chaos-theory-festival-%e2%98%85-2/
CATEGORIES:Concert,Event
END:VEVENT
BEGIN:VEVENT
DTSTART;TZID=Europe/Berlin:20251128T200000
DTEND;TZID=Europe/Berlin:20251128T233000
DTSTAMP:20260424T011837
CREATED:20251110T102841Z
LAST-MODIFIED:20251110T102843Z
UID:15358-1764360000-1764372600@wp.happytunes.de
SUMMARY:★ The Silver Duck 🦆 ★
DESCRIPTION:📍 Light DC ➨ Odin ➨ Shirogane ➨ Ward 16 ☇ Plot 07 \n\n\n\n🔗Carrd: https://silverduck.carrd.co/🚀Discord: https://discord.gg/ZPpR7n3MQs
URL:https://wp.happytunes.de/event/%e2%98%85-the-silver-duck-%f0%9f%a6%86-%e2%98%85-5/
CATEGORIES:Concert,Event
END:VEVENT
BEGIN:VEVENT
DTSTART;TZID=Europe/Berlin:20251129T150000
DTEND;TZID=Europe/Berlin:20251129T160000
DTSTAMP:20260424T011837
CREATED:20251019T172145Z
LAST-MODIFIED:20251129T103557Z
UID:14788-1764428400-1764432000@wp.happytunes.de
SUMMARY:❤️ Love Island - Blood Moon 🌕
DESCRIPTION:Location:📍 Light DC ➨ Raiden ➨ Lavender Beds ➨ Ward 1 ( Amethyst Shallows ) \n\n\n\n🔗 Website: https://loveisland.world/🚀 Discord: https://discord.gg/Wct7fqzece
URL:https://wp.happytunes.de/event/%e2%9d%a4%ef%b8%8f-love-island-blood-moon-%f0%9f%8c%95/
CATEGORIES:Concert,Event
END:VEVENT
BEGIN:VEVENT
DTSTART;TZID=Europe/Berlin:20251130T190000
DTEND;TZID=Europe/Berlin:20251130T230000
DTSTAMP:20260424T011837
CREATED:20251130T121507Z
LAST-MODIFIED:20251130T121510Z
UID:15876-1764529200-1764543600@wp.happytunes.de
SUMMARY:🍀 Saint Andrew's Day 🎻
DESCRIPTION:Saint Andrew’s Day\, also called the Feast of Saint Andrew or Andermas\, is the feast day of Andrew the Apostle. It is celebrated on 30 November\, during Scotland’s Winter Festival. Saint Andrew is the disciple in the New Testament who introduced his brother\, the Apostle Peter\, to Jesus\, the Messiah. \n\n\n\n📍 Chaos DC ➨ Lousioix ➨ The Goblet ➜ W06 ☇ P41
URL:https://wp.happytunes.de/event/%f0%9f%8d%80-saint-andrews-day-%f0%9f%8e%bb/
CATEGORIES:Concert,Event
END:VEVENT
END:VCALENDAR