BEGIN:VCALENDAR
VERSION:2.0
PRODID:-//Happy Tunes - ECPv6.15.20//NONSGML v1.0//EN
CALSCALE:GREGORIAN
METHOD:PUBLISH
X-WR-CALNAME:Happy Tunes
X-ORIGINAL-URL:https://wp.happytunes.de
X-WR-CALDESC:Events for Happy Tunes
REFRESH-INTERVAL;VALUE=DURATION:PT1H
X-Robots-Tag:noindex
X-PUBLISHED-TTL:PT1H
BEGIN:VTIMEZONE
TZID:Europe/Berlin
BEGIN:DAYLIGHT
TZOFFSETFROM:+0100
TZOFFSETTO:+0200
TZNAME:CEST
DTSTART:20250330T010000
END:DAYLIGHT
BEGIN:STANDARD
TZOFFSETFROM:+0200
TZOFFSETTO:+0100
TZNAME:CET
DTSTART:20251026T010000
END:STANDARD
BEGIN:DAYLIGHT
TZOFFSETFROM:+0100
TZOFFSETTO:+0200
TZNAME:CEST
DTSTART:20260329T010000
END:DAYLIGHT
BEGIN:STANDARD
TZOFFSETFROM:+0200
TZOFFSETTO:+0100
TZNAME:CET
DTSTART:20261025T010000
END:STANDARD
BEGIN:DAYLIGHT
TZOFFSETFROM:+0100
TZOFFSETTO:+0200
TZNAME:CEST
DTSTART:20270328T010000
END:DAYLIGHT
BEGIN:STANDARD
TZOFFSETFROM:+0200
TZOFFSETTO:+0100
TZNAME:CET
DTSTART:20271031T010000
END:STANDARD
END:VTIMEZONE
BEGIN:VEVENT
DTSTART;TZID=Europe/Berlin:20260501T200000
DTEND;TZID=Europe/Berlin:20260501T235900
DTSTAMP:20260423T174251
CREATED:20260419T131709Z
LAST-MODIFIED:20260419T131711Z
UID:16154-1777665600-1777679940@wp.happytunes.de
SUMMARY:🕵️ Lalakuza Bards Tale 🎻
DESCRIPTION:🔗 Carrd: https://lalakuza-bardstale.carrd.co/ \n\n\n\n🚀 Discord: https://discord.gg/8m8eQxtkXC \n\n\n\n📍 Light DC ➨ Shiva ➨ Mist ➨ W28 • P19
URL:https://wp.happytunes.de/event/%f0%9f%95%b5%ef%b8%8f-lalakuza-bards-tale-%f0%9f%8e%bb-5/
CATEGORIES:Concert,Event
END:VEVENT
BEGIN:VEVENT
DTSTART;TZID=Europe/Berlin:20260511T200000
DTEND;TZID=Europe/Berlin:20260511T235900
DTSTAMP:20260423T174251
CREATED:20260419T130301Z
LAST-MODIFIED:20260419T130303Z
UID:16151-1778529600-1778543940@wp.happytunes.de
SUMMARY:🌴 Bards in Paradise feat. Cafe Flintstone ☕
DESCRIPTION:📍 DC Light ➔ Shiva➔ LAVENDER BEDS ➔ 🏡 W25 ☇ P28 \n\n\n\n🔗 Carrd: https://paradisenightclubshiva.carrd.co/🚀 Discord: https://discord.gg/w47vWJxN
URL:https://wp.happytunes.de/event/%f0%9f%8c%b4-bards-in-paradise-feat-cafe-flintstone-%e2%98%95/
CATEGORIES:Concert,Event
END:VEVENT
END:VCALENDAR