BEGIN:VCALENDAR
VERSION:2.0
PRODID:-//Happy Tunes - ECPv6.15.20//NONSGML v1.0//EN
CALSCALE:GREGORIAN
METHOD:PUBLISH
X-ORIGINAL-URL:https://wp.happytunes.de
X-WR-CALDESC:Events for Happy Tunes
REFRESH-INTERVAL;VALUE=DURATION:PT1H
X-Robots-Tag:noindex
X-PUBLISHED-TTL:PT1H
BEGIN:VTIMEZONE
TZID:Europe/Berlin
BEGIN:DAYLIGHT
TZOFFSETFROM:+0100
TZOFFSETTO:+0200
TZNAME:CEST
DTSTART:20240331T010000
END:DAYLIGHT
BEGIN:STANDARD
TZOFFSETFROM:+0200
TZOFFSETTO:+0100
TZNAME:CET
DTSTART:20241027T010000
END:STANDARD
BEGIN:DAYLIGHT
TZOFFSETFROM:+0100
TZOFFSETTO:+0200
TZNAME:CEST
DTSTART:20250330T010000
END:DAYLIGHT
BEGIN:STANDARD
TZOFFSETFROM:+0200
TZOFFSETTO:+0100
TZNAME:CET
DTSTART:20251026T010000
END:STANDARD
BEGIN:DAYLIGHT
TZOFFSETFROM:+0100
TZOFFSETTO:+0200
TZNAME:CEST
DTSTART:20260329T010000
END:DAYLIGHT
BEGIN:STANDARD
TZOFFSETFROM:+0200
TZOFFSETTO:+0100
TZNAME:CET
DTSTART:20261025T010000
END:STANDARD
END:VTIMEZONE
BEGIN:VEVENT
DTSTART;TZID=Europe/Berlin:20250901T180000
DTEND;TZID=Europe/Berlin:20250902T060000
DTSTAMP:20260424T060704
CREATED:20250819T062740Z
LAST-MODIFIED:20250819T063107Z
UID:13368-1756749600-1756792800@wp.happytunes.de
SUMMARY:⚓ Bards on a Boat IV 🎻
DESCRIPTION:🔗 Carrd: https://archersden.carrd.co \n\n\n\n🚀 Discord:https://discord.gg/qNzmjUVyaW \n\n\n\n📍 Primal DC ➨ Hyperion ➨ Mist – Ward 6 ➨ Boat ( subdivision ) \n\n\n\nHappy TunesWok This WayGaenen’s WorldPurrfect HairumMelodic MusicalsCade N KidsWet PawsRage Against the MagiteckSkap and the PackWhiska and Misaki of Wandering BoleMelodi and the MusesAkuma
URL:https://wp.happytunes.de/event/%e2%9a%93-bards-on-a-boat-iv-%f0%9f%8e%bb/
CATEGORIES:Concert,Event
END:VEVENT
END:VCALENDAR