BEGIN:VCALENDAR
VERSION:2.0
PRODID:-//Happy Tunes - ECPv6.15.20//NONSGML v1.0//EN
CALSCALE:GREGORIAN
METHOD:PUBLISH
X-WR-CALNAME:Happy Tunes
X-ORIGINAL-URL:https://wp.happytunes.de
X-WR-CALDESC:Events for Happy Tunes
REFRESH-INTERVAL;VALUE=DURATION:PT1H
X-Robots-Tag:noindex
X-PUBLISHED-TTL:PT1H
BEGIN:VTIMEZONE
TZID:Europe/Berlin
BEGIN:DAYLIGHT
TZOFFSETFROM:+0100
TZOFFSETTO:+0200
TZNAME:CEST
DTSTART:20240331T010000
END:DAYLIGHT
BEGIN:STANDARD
TZOFFSETFROM:+0200
TZOFFSETTO:+0100
TZNAME:CET
DTSTART:20241027T010000
END:STANDARD
BEGIN:DAYLIGHT
TZOFFSETFROM:+0100
TZOFFSETTO:+0200
TZNAME:CEST
DTSTART:20250330T010000
END:DAYLIGHT
BEGIN:STANDARD
TZOFFSETFROM:+0200
TZOFFSETTO:+0100
TZNAME:CET
DTSTART:20251026T010000
END:STANDARD
BEGIN:DAYLIGHT
TZOFFSETFROM:+0100
TZOFFSETTO:+0200
TZNAME:CEST
DTSTART:20260329T010000
END:DAYLIGHT
BEGIN:STANDARD
TZOFFSETFROM:+0200
TZOFFSETTO:+0100
TZNAME:CET
DTSTART:20261025T010000
END:STANDARD
END:VTIMEZONE
BEGIN:VEVENT
DTSTART;TZID=Europe/Berlin:20250920T140000
DTEND;TZID=Europe/Berlin:20250920T160000
DTSTAMP:20260424T060530
CREATED:20250912T062904Z
LAST-MODIFIED:20250912T062907Z
UID:14100-1758376800-1758384000@wp.happytunes.de
SUMMARY:🎼 Bravious Eorzea Inc 🦁
DESCRIPTION:Website: https://braviouseorzea.wixsite.com/-braviouseorzeaDiscord: https://discord.com/invite/8HNNYuk2rA \n\n\n\n📍 DC Elemental ➨ Garuda ➨ Empyreum ➨ W1 ☇ P22
URL:https://wp.happytunes.de/event/%f0%9f%8e%bc-bravious-eorzea-inc-%f0%9f%a6%81-2/
CATEGORIES:Concert,Event
END:VEVENT
BEGIN:VEVENT
DTSTART;TZID=Europe/Berlin:20250920T200000
DTEND;TZID=Europe/Berlin:20250920T235900
DTSTAMP:20260424T060530
CREATED:20250920T135730Z
LAST-MODIFIED:20250920T135810Z
UID:14258-1758398400-1758412740@wp.happytunes.de
SUMMARY:🌟 Moonlight Festival 🌛
DESCRIPTION:🔗 Carrd: https://moonlightfestival.carrd.co/🚀 Discord: https://discord.gg/UxgqARbkV2 \n\n\n\n📍 DC Chaos ➨ Moogle ➨ Old Gridania ➨ The Greatloam Growery
URL:https://wp.happytunes.de/event/%f0%9f%8c%9f-moonlight-festival-%f0%9f%8c%9b-12/
CATEGORIES:Concert,Event
END:VEVENT
END:VCALENDAR