BEGIN:VCALENDAR
VERSION:2.0
PRODID:-//Happy Tunes - ECPv6.15.20//NONSGML v1.0//EN
CALSCALE:GREGORIAN
METHOD:PUBLISH
X-WR-CALNAME:Happy Tunes
X-ORIGINAL-URL:https://wp.happytunes.de
X-WR-CALDESC:Events for Happy Tunes
REFRESH-INTERVAL;VALUE=DURATION:PT1H
X-Robots-Tag:noindex
X-PUBLISHED-TTL:PT1H
BEGIN:VTIMEZONE
TZID:Europe/Berlin
BEGIN:DAYLIGHT
TZOFFSETFROM:+0100
TZOFFSETTO:+0200
TZNAME:CEST
DTSTART:20240331T010000
END:DAYLIGHT
BEGIN:STANDARD
TZOFFSETFROM:+0200
TZOFFSETTO:+0100
TZNAME:CET
DTSTART:20241027T010000
END:STANDARD
BEGIN:DAYLIGHT
TZOFFSETFROM:+0100
TZOFFSETTO:+0200
TZNAME:CEST
DTSTART:20250330T010000
END:DAYLIGHT
BEGIN:STANDARD
TZOFFSETFROM:+0200
TZOFFSETTO:+0100
TZNAME:CET
DTSTART:20251026T010000
END:STANDARD
BEGIN:DAYLIGHT
TZOFFSETFROM:+0100
TZOFFSETTO:+0200
TZNAME:CEST
DTSTART:20260329T010000
END:DAYLIGHT
BEGIN:STANDARD
TZOFFSETFROM:+0200
TZOFFSETTO:+0100
TZNAME:CET
DTSTART:20261025T010000
END:STANDARD
END:VTIMEZONE
BEGIN:VEVENT
DTSTART;TZID=Europe/Berlin:20251011T200000
DTEND;TZID=Europe/Berlin:20251011T235900
DTSTAMP:20260424T043634
CREATED:20250814T145555Z
LAST-MODIFIED:20250814T145557Z
UID:13201-1760212800-1760227140@wp.happytunes.de
SUMMARY:🍺🥨 OKTOᗷᗩᖇᖇᖇ!ᖴEST ²⁰²⁵ 🏴☠ ᴅᴀʏ ᴛᴡᴏ 🍻
DESCRIPTION:🔗 Carrd: https://oktoberfestxiv2025.carrd.co🚀 Discord: https://discord.gg/Vs4MVM8any \n\n\n\n📍 Light DC ➨ Shiva ➨ The Lavender Beds ➨ Ward 22 ☇ Plot 33
URL:https://wp.happytunes.de/event/%f0%9f%8d%ba%f0%9f%a5%a8-okto%e1%97%b7%e1%97%a9%e1%96%87%e1%96%87%e1%96%87%e1%96%b4est-%c2%b2%e2%81%b0%c2%b2%e2%81%b5-%f0%9f%8f%b4%e2%98%a0-%e1%b4%85%e1%b4%80%ca%8f-%e1%b4%9b%e1%b4%a1%e1%b4%8f/
CATEGORIES:Concert,Event
END:VEVENT
END:VCALENDAR