BEGIN:VCALENDAR
VERSION:2.0
PRODID:-//Happy Tunes - ECPv6.15.20//NONSGML v1.0//EN
CALSCALE:GREGORIAN
METHOD:PUBLISH
X-WR-CALNAME:Happy Tunes
X-ORIGINAL-URL:https://wp.happytunes.de
X-WR-CALDESC:Events for Happy Tunes
REFRESH-INTERVAL;VALUE=DURATION:PT1H
X-Robots-Tag:noindex
X-PUBLISHED-TTL:PT1H
BEGIN:VTIMEZONE
TZID:Europe/Berlin
BEGIN:DAYLIGHT
TZOFFSETFROM:+0100
TZOFFSETTO:+0200
TZNAME:CEST
DTSTART:20240331T010000
END:DAYLIGHT
BEGIN:STANDARD
TZOFFSETFROM:+0200
TZOFFSETTO:+0100
TZNAME:CET
DTSTART:20241027T010000
END:STANDARD
BEGIN:DAYLIGHT
TZOFFSETFROM:+0100
TZOFFSETTO:+0200
TZNAME:CEST
DTSTART:20250330T010000
END:DAYLIGHT
BEGIN:STANDARD
TZOFFSETFROM:+0200
TZOFFSETTO:+0100
TZNAME:CET
DTSTART:20251026T010000
END:STANDARD
BEGIN:DAYLIGHT
TZOFFSETFROM:+0100
TZOFFSETTO:+0200
TZNAME:CEST
DTSTART:20260329T010000
END:DAYLIGHT
BEGIN:STANDARD
TZOFFSETFROM:+0200
TZOFFSETTO:+0100
TZNAME:CET
DTSTART:20261025T010000
END:STANDARD
END:VTIMEZONE
BEGIN:VEVENT
DTSTART;TZID=Europe/Berlin:20251026T203000
DTEND;TZID=Europe/Berlin:20251026T233000
DTSTAMP:20260424T043641
CREATED:20251014T083611Z
LAST-MODIFIED:20251014T083613Z
UID:14651-1761510600-1761521400@wp.happytunes.de
SUMMARY:🎃 Melodies of the Harvest 2025 🎃
DESCRIPTION:𝕿𝖍𝖊 𝕭𝖑𝖚𝖊 𝕹𝖔𝖙𝖊 \n\n\n\nLocation:📍 DC Light ➔ Twintania ➔ Mist ➔ 🏡 W23 ☇ P01 \n\n\n\n🔗 Carrd: https://thebluenote.carrd.co/🚀 Discord: https://discord.com/invite/H9cfgBQbvP
URL:https://wp.happytunes.de/event/%f0%9f%8e%83-melodies-of-the-harvest-2025-%f0%9f%8e%83/
CATEGORIES:Concert,Event
END:VEVENT
END:VCALENDAR