BEGIN:VCALENDAR
VERSION:2.0
PRODID:-//Happy Tunes - ECPv6.15.20//NONSGML v1.0//EN
CALSCALE:GREGORIAN
METHOD:PUBLISH
X-WR-CALNAME:Happy Tunes
X-ORIGINAL-URL:https://wp.happytunes.de
X-WR-CALDESC:Events for Happy Tunes
REFRESH-INTERVAL;VALUE=DURATION:PT1H
X-Robots-Tag:noindex
X-PUBLISHED-TTL:PT1H
BEGIN:VTIMEZONE
TZID:Europe/Berlin
BEGIN:DAYLIGHT
TZOFFSETFROM:+0100
TZOFFSETTO:+0200
TZNAME:CEST
DTSTART:20240331T010000
END:DAYLIGHT
BEGIN:STANDARD
TZOFFSETFROM:+0200
TZOFFSETTO:+0100
TZNAME:CET
DTSTART:20241027T010000
END:STANDARD
BEGIN:DAYLIGHT
TZOFFSETFROM:+0100
TZOFFSETTO:+0200
TZNAME:CEST
DTSTART:20250330T010000
END:DAYLIGHT
BEGIN:STANDARD
TZOFFSETFROM:+0200
TZOFFSETTO:+0100
TZNAME:CET
DTSTART:20251026T010000
END:STANDARD
BEGIN:DAYLIGHT
TZOFFSETFROM:+0100
TZOFFSETTO:+0200
TZNAME:CEST
DTSTART:20260329T010000
END:DAYLIGHT
BEGIN:STANDARD
TZOFFSETFROM:+0200
TZOFFSETTO:+0100
TZNAME:CET
DTSTART:20261025T010000
END:STANDARD
END:VTIMEZONE
BEGIN:VEVENT
DTSTART;TZID=Europe/Berlin:20251206T200000
DTEND;TZID=Europe/Berlin:20251206T230000
DTSTAMP:20260424T011918
CREATED:20250814T145805Z
LAST-MODIFIED:20250814T145807Z
UID:13203-1765051200-1765062000@wp.happytunes.de
SUMMARY:🧜‍♀️Kepheus🏛️
DESCRIPTION:🔗 Carrd: https://kepheus.crd.co \n\n\n\n📍 Light DC ➨ Alpha ➨ The Goblet ➨ W03 • P05
URL:https://wp.happytunes.de/event/%f0%9f%a7%9c%e2%99%80%ef%b8%8fkepheus%f0%9f%8f%9b%ef%b8%8f-2/
CATEGORIES:Concert,Event
END:VEVENT
END:VCALENDAR