BEGIN:VCALENDAR
VERSION:2.0
PRODID:-//Happy Tunes - ECPv6.15.20//NONSGML v1.0//EN
CALSCALE:GREGORIAN
METHOD:PUBLISH
X-ORIGINAL-URL:https://wp.happytunes.de
X-WR-CALDESC:Events for Happy Tunes
REFRESH-INTERVAL;VALUE=DURATION:PT1H
X-Robots-Tag:noindex
X-PUBLISHED-TTL:PT1H
BEGIN:VTIMEZONE
TZID:Europe/Berlin
BEGIN:DAYLIGHT
TZOFFSETFROM:+0100
TZOFFSETTO:+0200
TZNAME:CEST
DTSTART:20240331T010000
END:DAYLIGHT
BEGIN:STANDARD
TZOFFSETFROM:+0200
TZOFFSETTO:+0100
TZNAME:CET
DTSTART:20241027T010000
END:STANDARD
BEGIN:DAYLIGHT
TZOFFSETFROM:+0100
TZOFFSETTO:+0200
TZNAME:CEST
DTSTART:20250330T010000
END:DAYLIGHT
BEGIN:STANDARD
TZOFFSETFROM:+0200
TZOFFSETTO:+0100
TZNAME:CET
DTSTART:20251026T010000
END:STANDARD
BEGIN:DAYLIGHT
TZOFFSETFROM:+0100
TZOFFSETTO:+0200
TZNAME:CEST
DTSTART:20260329T010000
END:DAYLIGHT
BEGIN:STANDARD
TZOFFSETFROM:+0200
TZOFFSETTO:+0100
TZNAME:CET
DTSTART:20261025T010000
END:STANDARD
END:VTIMEZONE
BEGIN:VEVENT
DTSTART;TZID=Europe/Berlin:20251221T200000
DTEND;TZID=Europe/Berlin:20251221T230000
DTSTAMP:20260424T012035
CREATED:20251206T144941Z
LAST-MODIFIED:20251206T144943Z
UID:15897-1766347200-1766358000@wp.happytunes.de
SUMMARY:🎄 Blue Note 🎵 Melodies of Starlight 🎅
DESCRIPTION:📍 DC Light ➔ Twintania ➔ Mist ➔ 🏡 W23 ☇ P01 \n\n\n\n🔗 Carrd: https://thebluenote.carrd.co/🚀 Discord: https://discord.com/invite/H9cfgBQbvP
URL:https://wp.happytunes.de/event/%f0%9f%8e%84-blue-note-%f0%9f%8e%b5-melodies-of-starlight-%f0%9f%8e%85-2/
LOCATION:The Blue Note – Jazz Cafe\, DC Light ➔ Twintania ➔ Mist ➔ 🏡 W23 Plot1
CATEGORIES:Concert,Event
END:VEVENT
END:VCALENDAR