BEGIN:VCALENDAR
VERSION:2.0
PRODID:-//Happy Tunes - ECPv6.15.20//NONSGML v1.0//EN
CALSCALE:GREGORIAN
METHOD:PUBLISH
X-WR-CALNAME:Happy Tunes
X-ORIGINAL-URL:https://wp.happytunes.de
X-WR-CALDESC:Events for Happy Tunes
REFRESH-INTERVAL;VALUE=DURATION:PT1H
X-Robots-Tag:noindex
X-PUBLISHED-TTL:PT1H
BEGIN:VTIMEZONE
TZID:Europe/Berlin
BEGIN:DAYLIGHT
TZOFFSETFROM:+0100
TZOFFSETTO:+0200
TZNAME:CEST
DTSTART:20230326T010000
END:DAYLIGHT
BEGIN:STANDARD
TZOFFSETFROM:+0200
TZOFFSETTO:+0100
TZNAME:CET
DTSTART:20231029T010000
END:STANDARD
BEGIN:DAYLIGHT
TZOFFSETFROM:+0100
TZOFFSETTO:+0200
TZNAME:CEST
DTSTART:20240331T010000
END:DAYLIGHT
BEGIN:STANDARD
TZOFFSETFROM:+0200
TZOFFSETTO:+0100
TZNAME:CET
DTSTART:20241027T010000
END:STANDARD
BEGIN:DAYLIGHT
TZOFFSETFROM:+0100
TZOFFSETTO:+0200
TZNAME:CEST
DTSTART:20250330T010000
END:DAYLIGHT
BEGIN:STANDARD
TZOFFSETFROM:+0200
TZOFFSETTO:+0100
TZNAME:CET
DTSTART:20251026T010000
END:STANDARD
BEGIN:DAYLIGHT
TZOFFSETFROM:+0100
TZOFFSETTO:+0200
TZNAME:CEST
DTSTART:20260329T010000
END:DAYLIGHT
BEGIN:STANDARD
TZOFFSETFROM:+0200
TZOFFSETTO:+0100
TZNAME:CET
DTSTART:20261025T010000
END:STANDARD
END:VTIMEZONE
BEGIN:VEVENT
DTSTART;TZID=Europe/Berlin:20250726T200000
DTEND;TZID=Europe/Berlin:20250726T235900
DTSTAMP:20260421T000411
CREATED:20250721T070350Z
LAST-MODIFIED:20250721T070351Z
UID:12585-1753560000-1753574340@wp.happytunes.de
SUMMARY:🌟 Moonlight Festival 🌛
DESCRIPTION:🔗 Carrd: https://moonlightfestival.carrd.co/🚀 Discord: https://discord.gg/UxgqARbkV2
URL:https://wp.happytunes.de/event/%f0%9f%8c%9f-moonlight-festival-%f0%9f%8c%9b-10/
CATEGORIES:Concert,Event
END:VEVENT
BEGIN:VEVENT
DTSTART;TZID=Europe/Berlin:20250628T200000
DTEND;TZID=Europe/Berlin:20250628T235900
DTSTAMP:20260421T000411
CREATED:20250617T201634Z
LAST-MODIFIED:20250617T201636Z
UID:11859-1751140800-1751155140@wp.happytunes.de
SUMMARY:🌟 Moonlight Festival 🌛
DESCRIPTION:🔗 Carrd: https://moonlightfestival.carrd.co/🚀 Discord: https://discord.gg/UxgqARbkV2
URL:https://wp.happytunes.de/event/%f0%9f%8c%9f-moonlight-festival-%f0%9f%8c%9b-9/
CATEGORIES:Concert,Event
END:VEVENT
BEGIN:VEVENT
DTSTART;TZID=Europe/Berlin:20250627T210000
DTEND;TZID=Europe/Berlin:20250627T235900
DTSTAMP:20260421T000411
CREATED:20250617T201446Z
LAST-MODIFIED:20250617T201448Z
UID:11857-1751058000-1751068740@wp.happytunes.de
SUMMARY:🦉Owlish Maiden Cafe ☕
DESCRIPTION:🔗 Carrd: https://owlishmaidcafe.crd.co🚀 Discord: https://discord.gg/s6psRnebBk📍 Light DC ➨ Lich ➨ Empyreum ➨ Ward 23 ☇ Plot 32
URL:https://wp.happytunes.de/event/%f0%9f%a6%89owlish-maiden-cafe-%e2%98%95/
CATEGORIES:Concert,Event
END:VEVENT
BEGIN:VEVENT
DTSTART;TZID=Europe/Berlin:20250531T200000
DTEND;TZID=Europe/Berlin:20250531T235900
DTSTAMP:20260421T000411
CREATED:20250531T120544Z
LAST-MODIFIED:20250531T120546Z
UID:11461-1748721600-1748735940@wp.happytunes.de
SUMMARY:🌟 Moonlight Festival 🌛
DESCRIPTION:🔗 Carrd: https://moonlightfestival.carrd.co/🚀 Discord: https://discord.gg/UxgqARbkV2 \n\n\n\n📍 Chaos DC ➨ Moogle ➨ Gold Saucer ➜ Wonder Square [X6.5 Y7.5]
URL:https://wp.happytunes.de/event/%f0%9f%8c%9f-moonlight-festival-%f0%9f%8c%9b-8/
CATEGORIES:Concert,Event
END:VEVENT
BEGIN:VEVENT
DTSTART;TZID=Europe/Berlin:20250517T200000
DTEND;TZID=Europe/Berlin:20250517T235900
DTSTAMP:20260421T000411
CREATED:20250513T063322Z
LAST-MODIFIED:20250513T063604Z
UID:11117-1747512000-1747526340@wp.happytunes.de
SUMMARY:🌟 Moonlight Festival 🌛
DESCRIPTION:🔗 Carrd: https://moonlightfestival.carrd.co/🚀 Discord: https://discord.gg/UxgqARbkV2 \n\n\n\n📍 Light DC ➨ xxx➨ xxx ➨ xxx [X\, Y]
URL:https://wp.happytunes.de/event/%f0%9f%8c%9f-moonlight-festival-%f0%9f%8c%9b-7/
CATEGORIES:Concert,Event
END:VEVENT
BEGIN:VEVENT
DTSTART;TZID=Europe/Berlin:20250516T190000
DTEND;TZID=Europe/Berlin:20250516T210000
DTSTAMP:20260421T000411
CREATED:20250513T062750Z
LAST-MODIFIED:20250513T062752Z
UID:11115-1747422000-1747429200@wp.happytunes.de
SUMMARY:The Cabaret 🎭Fane's Fish Fest 🐟
DESCRIPTION:📍 Chaos ➨ Phantom ➨ Mist ➨ W26 ☇ P02 \n\n\n\n🚀 Discord: https://discord.com/invite/a9at62WwPy🔗 Carrd: https://thecabaret.carrd.co/
URL:https://wp.happytunes.de/event/the-cabaret-%f0%9f%8e%adfanes-fish-fest-%f0%9f%90%9f/
CATEGORIES:Concert,Event
END:VEVENT
BEGIN:VEVENT
DTSTART;TZID=Europe/Berlin:20250502T200000
DTEND;TZID=Europe/Berlin:20250502T235900
DTSTAMP:20260421T000411
CREATED:20250422T181923Z
LAST-MODIFIED:20250422T181925Z
UID:10711-1746216000-1746230340@wp.happytunes.de
SUMMARY:🕵️ Lalakuza Bards Tale 🎻
DESCRIPTION:🔗 Carrd: https://lalakuza-bardstale.carrd.co/ \n\n\n\n🚀 Discord: https://discord.gg/8m8eQxtkXC \n\n\n\n📍 Light DC ➨ Shiva ➨ Mist ➨ W28 • P19
URL:https://wp.happytunes.de/event/%f0%9f%95%b5%ef%b8%8f-lalakuza-bards-tale-%f0%9f%8e%bb/
CATEGORIES:Concert,Event
END:VEVENT
BEGIN:VEVENT
DTSTART;TZID=Europe/Berlin:20250427T203000
DTEND;TZID=Europe/Berlin:20250427T230000
DTSTAMP:20260421T000411
CREATED:20250420T210739Z
LAST-MODIFIED:20250420T210741Z
UID:10674-1745785800-1745794800@wp.happytunes.de
SUMMARY:🌸 Melodies of the Spring - Blue Note 🎵
DESCRIPTION:📍 DC Light ➔ Twintania ➔ Mist ➔ 🏡 W23 ☇ P01 \n\n\n\n🔗 Carrd: https://thebluenote.carrd.co/🚀 Discord: https://discord.com/invite/H9cfgBQbvP
URL:https://wp.happytunes.de/event/%f0%9f%8c%b8-melodies-of-the-spring-blue-note-%f0%9f%8e%b5/
CATEGORIES:Concert,Event
END:VEVENT
BEGIN:VEVENT
DTSTART;TZID=Europe/Berlin:20250419T200000
DTEND;TZID=Europe/Berlin:20250419T235900
DTSTAMP:20260421T000411
CREATED:20250418T153914Z
LAST-MODIFIED:20250418T154138Z
UID:10632-1745092800-1745107140@wp.happytunes.de
SUMMARY:🌟 Moonlight Festival 🌛
DESCRIPTION:🔗 Carrd: https://moonlightfestival.carrd.co/🚀 Discord: https://discord.gg/UxgqARbkV2 \n\n\n\n📍 Light DC ➨ Phoenix ➨ Limsa Lominsa ➨ Hawker’s Round [X7\,3 Y12]
URL:https://wp.happytunes.de/event/%f0%9f%8c%9f-moonlight-festival-%f0%9f%8c%9b-6/
CATEGORIES:Concert,Event
END:VEVENT
BEGIN:VEVENT
DTSTART;TZID=Europe/Berlin:20250413T010000
DTEND;TZID=Europe/Berlin:20250413T030000
DTSTAMP:20260421T000411
CREATED:20250323T143520Z
LAST-MODIFIED:20250323T143522Z
UID:10002-1744506000-1744513200@wp.happytunes.de
SUMMARY:⛩️ Shrine of a Thousand Tails 🗻
DESCRIPTION:T:B:A \n\n\n\n🚀 Discord: https://discord.gg/2vpkN6uEW7📍 Dynamis DC ➨ Golem ➨ x ➨ x
URL:https://wp.happytunes.de/event/%e2%9b%a9%ef%b8%8f-shrine-of-a-thousand-tails-%f0%9f%97%bb/
CATEGORIES:Concert,Event
END:VEVENT
BEGIN:VEVENT
DTSTART;TZID=Europe/Berlin:20250405T200000
DTEND;TZID=Europe/Berlin:20250405T235900
DTSTAMP:20260421T000411
CREATED:20250404T090657Z
LAST-MODIFIED:20250404T090658Z
UID:10244-1743883200-1743897540@wp.happytunes.de
SUMMARY:🌼 ᖴᖇüᕼᒪIᑎGSᖴEST ²⁰²⁵ 🌼 Day Two 💐
DESCRIPTION:✨Join us on April 4th & 5th\, for two magical days filled with music\, fun\, and the beauty of spring!🌷 \n\n\n\n🎉 What to Expect 🎉\n\n\n\n✨ A world in bloom – Immerse yourself in the magic of spring! \n\n\n\n🍓 Delicious seasonal treats – Sweet and fresh delights await! \n\n\n\n🎶 Live music & dancing – Celebrate under blossoming cherry trees! \n\n\n\n🎁 Exciting giveaways – Beautiful surprises for everyone! \n\n\n\n💌 Flower messages & memories – Send a floral smile to your friends! \n\n\n\n🎤 Your Hosts for this Year: \n\n\n\n⭐ Hugo Fresh & Morgana – Guiding us through an unforgettable evening with charm and energy! \n\n\n\n📍 Light DC ➨ Shiva ➨ The Lavender Beds ➨ Ward 22 ☇ Plot 33\n\n\n\n🎶 Our Guest Bands:\n\n\n\n🎸 The Strudelboys – Sweet melodies with extra fluff! \n\n\n\n🤘 Lalametal – Heavy beats\, even heavier glam! \n\n\n\n🎭 The Ugly Dolls – A mix of charm\, chaos & melody! \n\n\n\n🎵 Bards of Light – Spreading the glow of music across the stage! \n\n\n\n🌼 Carrd:  https://fruehlingsfest2025.carrd.co  \n\n\n\n💬 Discord:  https://discord.gg/Vs4MVM8any  /  https://dsc.gg/fruehlingsfest
URL:https://wp.happytunes.de/event/%f0%9f%8c%bc-%e1%96%b4%e1%96%87u%e1%95%bc%e1%92%aai%e1%91%8egs%e1%96%b4est-%c2%b2%e2%81%b0%c2%b2%e2%81%b5-%f0%9f%8c%bc-day-two-%f0%9f%92%90/
CATEGORIES:Concert,Event
ORGANIZER;CN="Happy Tunes":MAILTO:info@happytunes.de
END:VEVENT
BEGIN:VEVENT
DTSTART;TZID=Europe/Berlin:20250404T200000
DTEND;TZID=Europe/Berlin:20250404T235900
DTSTAMP:20260421T000411
CREATED:20250404T090413Z
LAST-MODIFIED:20250404T090716Z
UID:10240-1743796800-1743811140@wp.happytunes.de
SUMMARY:🌼 ᖴᖇüᕼᒪIᑎGSᖴEST ²⁰²⁵ 🌼 Day One 💐
DESCRIPTION:✨ Join us on April 4th & 5th\, for two magical days filled with music\, fun\, and the beauty of spring! 🌷 \n\n\n\n🎉 What to Expect 🎉\n\n\n\n✨ A world in bloom – Immerse yourself in the magic of spring! \n\n\n\n🍓 Delicious seasonal treats – Sweet and fresh delights await! \n\n\n\n🎶 Live music & dancing – Celebrate under blossoming cherry trees! \n\n\n\n🎁 Exciting giveaways – Beautiful surprises for everyone! \n\n\n\n💌 Flower messages & memories – Send a floral smile to your friends! \n\n\n\n🎤 Your Hosts for this Year: \n\n\n\n⭐ Hugo Fresh & Morgana – Guiding us through an unforgettable evening with charm and energy! \n\n\n\n📍 Light DC ➨ Shiva ➨ The Lavender Beds ➨ Ward 22 ☇ Plot 33\n\n\n\n🎶 Our Guest Bands:\n\n\n\n🎸 The Strudelboys – Sweet melodies with extra fluff! \n\n\n\n🤘 Lalametal – Heavy beats\, even heavier glam! \n\n\n\n🎭 The Ugly Dolls – A mix of charm\, chaos & melody! \n\n\n\n🎵 Bards of Light – Spreading the glow of music across the stage! \n\n\n\n🌼 Carrd:  https://fruehlingsfest2025.carrd.co  \n\n\n\n💬 Discord:  https://discord.gg/Vs4MVM8any  /  https://dsc.gg/fruehlingsfest
URL:https://wp.happytunes.de/event/%f0%9f%8c%bc-%e1%96%b4%e1%96%87u%e1%95%bc%e1%92%aai%e1%91%8egs%e1%96%b4est-%c2%b2%e2%81%b0%c2%b2%e2%81%b5-%f0%9f%8c%bc-day-one-%f0%9f%92%90/
CATEGORIES:Concert,Event
ORGANIZER;CN="Happy Tunes":MAILTO:info@happytunes.de
END:VEVENT
BEGIN:VEVENT
DTSTART;TZID=Europe/Berlin:20250322T200000
DTEND;TZID=Europe/Berlin:20250322T235900
DTSTAMP:20260421T000411
CREATED:20250311T193001Z
LAST-MODIFIED:20250311T193003Z
UID:9770-1742673600-1742687940@wp.happytunes.de
SUMMARY:✨ The Moonlight Festival 🌛
DESCRIPTION:🔗 Carrd: https://moonlightfestival.carrd.co/🚀 Discord: https://discord.gg/UxgqARbkV2
URL:https://wp.happytunes.de/event/%e2%9c%a8-the-moonlight-festival-%f0%9f%8c%9b/
CATEGORIES:Concert,Event
END:VEVENT
BEGIN:VEVENT
DTSTART;TZID=Europe/Berlin:20250321T200000
DTEND;TZID=Europe/Berlin:20250321T230000
DTSTAMP:20260421T000411
CREATED:20250311T192818Z
LAST-MODIFIED:20250311T192819Z
UID:9768-1742587200-1742598000@wp.happytunes.de
SUMMARY:★ The Silver Duck 🦆 ★
DESCRIPTION:📍 Light DC ➨ Odin ➨ Shirogane ➨ Ward 16 ☇ Plot 07 \n\n\n\n🔗Carrd: https://silverduck.carrd.co/🚀Discord: https://discord.gg/ZPpR7n3MQs
URL:https://wp.happytunes.de/event/%e2%98%85-the-silver-duck-%f0%9f%a6%86-%e2%98%85-4/
CATEGORIES:Concert,Event
END:VEVENT
BEGIN:VEVENT
DTSTART;TZID=Europe/Berlin:20250319T200000
DTEND;TZID=Europe/Berlin:20250319T230000
DTSTAMP:20260421T000411
CREATED:20250313T085349Z
LAST-MODIFIED:20250313T085351Z
UID:9809-1742414400-1742425200@wp.happytunes.de
SUMMARY:Whispering Woods Inn 🌲
DESCRIPTION:📍 Light DC ➨ Phoenix ➨ Lavender Beds ➨ Ward 6 ☇ Plot 38 \n\n\n\n🔗 Carrd: https://whisperingwoodsinn.carrd.co/🚀 Discord: https://discord.gg/jTKqntxc5q
URL:https://wp.happytunes.de/event/whispering-woods-inn-%f0%9f%8c%b2/
CATEGORIES:Concert,Event
END:VEVENT
BEGIN:VEVENT
DTSTART;TZID=Europe/Berlin:20250307T190000
DTEND;TZID=Europe/Berlin:20250307T210000
DTSTAMP:20260421T000411
CREATED:20250224T213259Z
LAST-MODIFIED:20250224T213300Z
UID:9493-1741374000-1741381200@wp.happytunes.de
SUMMARY:The Cabaret 🎭
DESCRIPTION:📍 Chaos ➨ Phantom ➨ Mist ➨ W26 ☇ P02 \n\n\n\n🚀 Discord: https://discord.com/invite/a9at62WwPy🔗 Carrd: https://thecabaret.carrd.co/
URL:https://wp.happytunes.de/event/the-cabaret-%f0%9f%8e%ad-4/
CATEGORIES:Concert,Event
END:VEVENT
BEGIN:VEVENT
DTSTART;TZID=Europe/Berlin:20250208T200000
DTEND;TZID=Europe/Berlin:20250208T235900
DTSTAMP:20260421T000411
CREATED:20250206T073411Z
LAST-MODIFIED:20250206T150927Z
UID:9164-1739044800-1739059140@wp.happytunes.de
SUMMARY:🌟 Moonlight Festival 🌛
DESCRIPTION:🔗 Carrd: https://moonlightfestival.carrd.co/🚀 Discord: https://discord.gg/UxgqARbkV2 \n\n\n\n📍 Chaos DC ➨ Moogle ➨ Old Gridania ➨ Mih’Khettos Amphitheatre
URL:https://wp.happytunes.de/event/%f0%9f%8c%9f-moonlight-festival-%f0%9f%8c%9b-5/
CATEGORIES:Concert,Event
END:VEVENT
BEGIN:VEVENT
DTSTART;TZID=Europe/Berlin:20250207T190000
DTEND;TZID=Europe/Berlin:20250207T200000
DTSTAMP:20260421T000411
CREATED:20250206T150847Z
LAST-MODIFIED:20250206T150849Z
UID:9167-1738954800-1738958400@wp.happytunes.de
SUMMARY:❄️The Undergroove APRÈS-SKI PARTY🏔
DESCRIPTION:📍 Light DC ➨ Alpha ➨ Mist➨ W12 ☇ P15 \n\n\n\n🚀Discord: https://discord.gg/undergroove
URL:https://wp.happytunes.de/event/%e2%9d%84%ef%b8%8fthe-undergroove-apres-ski-party%f0%9f%8f%94/
CATEGORIES:Concert,Event
END:VEVENT
BEGIN:VEVENT
DTSTART;TZID=Europe/Berlin:20250124T200000
DTEND;TZID=Europe/Berlin:20250124T230000
DTSTAMP:20260421T000411
CREATED:20250107T133112Z
LAST-MODIFIED:20250107T133114Z
UID:8581-1737748800-1737759600@wp.happytunes.de
SUMMARY:★ The Silver Duck 🦆 ★
DESCRIPTION:📍 Light DC ➨ Odin ➨ Shirogane ➨ Ward 16 ☇ Plot 07 \n\n\n\n🔗Carrd: https://silverduck.carrd.co/🚀Discord: https://discord.gg/ZPpR7n3MQs
URL:https://wp.happytunes.de/event/%e2%98%85-the-silver-duck-%f0%9f%a6%86-%e2%98%85-3/
CATEGORIES:Concert,Event
END:VEVENT
BEGIN:VEVENT
DTSTART;TZID=Europe/Berlin:20250119T200000
DTEND;TZID=Europe/Berlin:20250119T230000
DTSTAMP:20260421T000411
CREATED:20250112T121653Z
LAST-MODIFIED:20250112T121654Z
UID:8694-1737316800-1737327600@wp.happytunes.de
SUMMARY:🍹 Coco's Oasis 🌴
DESCRIPTION:📍 Light DC ➨ Alpha ➨ The Goblet ➨ W02 ☇ P08 \n\n\n\n🔗Carrd: https://cocosoasis.info/🚀Discord: https://discord.gg/gyk96uSJb3
URL:https://wp.happytunes.de/event/%f0%9f%8d%b9-cocos-oasis-%f0%9f%8c%b4/
CATEGORIES:Concert,Event
END:VEVENT
BEGIN:VEVENT
DTSTART;TZID=Europe/Berlin:20250117T200000
DTEND;TZID=Europe/Berlin:20250117T230000
DTSTAMP:20260421T000411
CREATED:20250109T203111Z
LAST-MODIFIED:20250109T203718Z
UID:8635-1737144000-1737154800@wp.happytunes.de
SUMMARY:Broken Barrel 🍺
DESCRIPTION:🔗 carrd: https://brokenbarrel.carrd.co/# \n\n\n\n🚀 Discord: https://discord.gg/qP5mRgKvEV \n\n\n\n📍 DC Light ➨ Alpha ➨ Mist ➜ Ward 28 ☇ Plot 37
URL:https://wp.happytunes.de/event/broken-barrel-%f0%9f%8d%ba-4/
CATEGORIES:Concert,Event
END:VEVENT
BEGIN:VEVENT
DTSTART;TZID=Europe/Berlin:20250111T200000
DTEND;TZID=Europe/Berlin:20250111T235900
DTSTAMP:20260421T000411
CREATED:20250107T132911Z
LAST-MODIFIED:20250107T132912Z
UID:8579-1736625600-1736639940@wp.happytunes.de
SUMMARY:🌟 Moonlight Festival 🌛
DESCRIPTION:📍 Light DC ➨ xxx ➨ xxx ➨ xxx ➜ xxx \n\n\n\n🔗 Carrd: https://moonlightfestival.carrd.co/🚀 Discord: https://discord.gg/UxgqARbkV2
URL:https://wp.happytunes.de/event/%f0%9f%8c%9f-moonlight-festival-%f0%9f%8c%9b-4/
CATEGORIES:Concert,Event
END:VEVENT
BEGIN:VEVENT
DTSTART;TZID=Europe/Berlin:20241230T200000
DTEND;TZID=Europe/Berlin:20241230T230000
DTSTAMP:20260421T000411
CREATED:20241227T145659Z
LAST-MODIFIED:20241227T145700Z
UID:8375-1735588800-1735599600@wp.happytunes.de
SUMMARY:☕ Cafe Flintstone 🍖
DESCRIPTION:☕ Cafe Flintstone 🍖 KARAOKE – Sing with us! 🎙️ \n\n\n\n\n\n\n\n🔗 Carrd: https://cafeflintstone.carrd.co/🚀 Discord: https://discord.gg/hkJE3wQnjd \n\n\n\n📍 Light DC ➨ Odin ➨ Mist ➜ W21 ☇ P32
URL:https://wp.happytunes.de/event/%e2%98%95-cafe-flintstone-%f0%9f%8d%96/
CATEGORIES:Concert,Event
END:VEVENT
BEGIN:VEVENT
DTSTART;TZID=Europe/Berlin:20241222T203000
DTEND;TZID=Europe/Berlin:20241222T230000
DTSTAMP:20260421T000411
CREATED:20241222T004925Z
LAST-MODIFIED:20241222T004927Z
UID:8279-1734899400-1734908400@wp.happytunes.de
SUMMARY:🎄 Blue Note 🎵 Melodies of Starlight 🎅
DESCRIPTION:📍 DC Light ➔ Twintania ➔ Mist ➔ 🏡 W23 ☇ P01 \n\n\n\n🔗 Carrd: https://thebluenote.carrd.co/🚀 Discord: https://discord.com/invite/H9cfgBQbvP
URL:https://wp.happytunes.de/event/%f0%9f%8e%84-blue-note-%f0%9f%8e%b5-melodies-of-starlight-%f0%9f%8e%85/
CATEGORIES:Concert,Event
END:VEVENT
BEGIN:VEVENT
DTSTART;TZID=Europe/Berlin:20241221T200000
DTEND;TZID=Europe/Berlin:20241221T235900
DTSTAMP:20260421T000411
CREATED:20241002T163308Z
LAST-MODIFIED:20241212T100438Z
UID:6663-1734811200-1734825540@wp.happytunes.de
SUMMARY:🌙 Moonlight Festival - XMAS 🎅
DESCRIPTION:🌙 Moonlight Festival – XMAS 🎅
URL:https://wp.happytunes.de/event/%f0%9f%8c%99-moonlight-festival-xmas-%f0%9f%8e%85/
CATEGORIES:Concert,Event
END:VEVENT
BEGIN:VEVENT
DTSTART;TZID=Europe/Berlin:20241220T190000
DTEND;TZID=Europe/Berlin:20241220T210000
DTSTAMP:20260421T000411
CREATED:20241126T082625Z
LAST-MODIFIED:20241128T212818Z
UID:7745-1734721200-1734728400@wp.happytunes.de
SUMMARY:The Cabaret 🎭 XMAS 🎄
DESCRIPTION:📍 Chaos ➨ Phantom ➨ Mist ➨ W26 ☇ P02 \n\n\n\n🚀 Discord: https://discord.com/invite/a9at62WwPy🔗 Carrd: https://thecabaret.carrd.co/
URL:https://wp.happytunes.de/event/the-cabaret-%f0%9f%8e%ad-3/
END:VEVENT
BEGIN:VEVENT
DTSTART;TZID=Europe/Berlin:20241213T200000
DTEND;TZID=Europe/Berlin:20241213T230000
DTSTAMP:20260421T000411
CREATED:20241212T100840Z
LAST-MODIFIED:20241212T100842Z
UID:8076-1734120000-1734130800@wp.happytunes.de
SUMMARY:★ The Silver Duck 🦆 ★
DESCRIPTION:📍 Light DC ➨ Odin ➨ Shirogane ➨ Ward 16 ☇ Plot 07 \n\n\n\n🔗Carrd: https://silverduck.carrd.co/🚀Discord: https://discord.gg/ZPpR7n3MQs
URL:https://wp.happytunes.de/event/%e2%98%85-the-silver-duck-%f0%9f%a6%86-%e2%98%85-2/
CATEGORIES:Concert,Event
END:VEVENT
BEGIN:VEVENT
DTSTART;TZID=Europe/Berlin:20241130T200000
DTEND;TZID=Europe/Berlin:20241130T233000
DTSTAMP:20260421T000411
CREATED:20241129T185519Z
LAST-MODIFIED:20241129T185520Z
UID:7810-1732996800-1733009400@wp.happytunes.de
SUMMARY:🌟 Moonlight Festival 🌛
DESCRIPTION:📍 Light DC ➨ Shiva ➨ Old Gridania ➨ The Lancer’s Guild i ➜ X13.9 Y6.3 \n\n\n\n🔗 Carrd: https://moonlightfestival.carrd.co/🚀 Discord: https://discord.gg/UxgqARbkV2
URL:https://wp.happytunes.de/event/%f0%9f%8c%9f-moonlight-festival-%f0%9f%8c%9b-3/
CATEGORIES:Concert,Event
END:VEVENT
BEGIN:VEVENT
DTSTART;TZID=Europe/Berlin:20241129T080000
DTEND;TZID=Europe/Berlin:20241129T170000
DTSTAMP:20260421T000411
CREATED:20241129T185641Z
LAST-MODIFIED:20241129T185746Z
UID:7812-1732867200-1732899600@wp.happytunes.de
SUMMARY:Owlish Maiden Cafe 🦉 ☕ XMAS 🎄
DESCRIPTION:📍 Light DC ➨ Lich ➨ Empyreum ➨ Ward 23 ☇ Plot 32 \n\n\n\n🔗 Carrd: https://owlishmaidcafe.crd.co/🚀 Discord: https://discord.gg/s6psRnebBk
URL:https://wp.happytunes.de/event/owlish-maiden-cafe-%f0%9f%a6%89-%e2%98%95-5/
LOCATION:Owlish Maiden Cafe 🦉 ☕
CATEGORIES:Concert,Event
END:VEVENT
BEGIN:VEVENT
DTSTART;TZID=Europe/Berlin:20241124T203000
DTEND;TZID=Europe/Berlin:20241124T230000
DTSTAMP:20260421T000411
CREATED:20241120T104130Z
LAST-MODIFIED:20241120T104230Z
UID:7625-1732480200-1732489200@wp.happytunes.de
SUMMARY:🥢 Melodies of the east 🍣 Blue Note 🎵
DESCRIPTION:📍 DC Light ➔ Twintania ➔ Mist ➔ 🏡 W23 ☇ P01 \n\n\n\n🔗 Carrd: https://thebluenote.carrd.co/🚀 Discord: https://discord.com/invite/H9cfgBQbvP
URL:https://wp.happytunes.de/event/%f0%9f%a5%a2-melodies-of-the-east-%f0%9f%8d%a3-blue-note-%f0%9f%8e%b5/
LOCATION:The Blue Note – Jazz Cafe\, DC Light ➔ Twintania ➔ Mist ➔ 🏡 W23 Plot1
CATEGORIES:Concert,Event
END:VEVENT
END:VCALENDAR